BEGIN:VCALENDAR
VERSION:2.0
PRODID:-//ChamberMaster//Event Calendar 2.0//EN
METHOD:PUBLISH
X-PUBLISHED-TTL:P3D
REFRESH-INTERVAL:P3D
CALSCALE:GREGORIAN
BEGIN:VEVENT
DTSTART:20250508T183000Z
DTEND:20250508T200000Z
X-MICROSOFT-CDO-ALLDAYEVENT:FALSE
SUMMARY:Women's Networking Group
DESCRIPTION:Join us in May for a presentation on Caring for the Caregiver\n\nby Julie Aronowitz\, Psychosocial Resource Specialist and Dawn Torre\, Grief Counselor with Hospice East Bay.\n\nIn this session\, they will discuss the impact of caring on the caregiver and discuss tangible strategies to help ensure that you find ways to take care of yourself\, even if the demands of your time or your natural inclinations orient you away from your own wellbeing. They will also show tangible exercises you can easily integrate into your daily routine. \n\n\n\nLunch will be provided.\n\n\n\nThe Women's Networking Group is held the \n\n2nd Thursday of the month\, 11:30 AM - 1:00 PM
X-ALT-DESC;FMTTYPE=text/html:<p class="pf0" style="text-align: center\;"><strong><span style="font-family:arial\;"><span style="font-size:18px\;">Join us in May for a presentation on Caring for the Caregiver<br />\nby Julie Aronowitz\, Psychosocial Resource Specialist and&nbsp\;Dawn Torre\, Grief Counselor with&nbsp\;Hospice East Bay.</span></span></strong></p>\n\n<p class="elementtoproof" style="background: white\; text-align: center\;"><span style="font-family:arial\;"><span style="font-size:18px\;"><span style="color: black\;">In this session\, they will discuss the impact of caring on the caregiver and discuss tangible strategies to help ensure that you find ways to take care of yourself\, even if the demands of your time or your natural inclinations orient you away from your own wellbeing. They will also show tangible exercises you can easily integrate into your daily routine.&nbsp\;</span></span></span><br />\n<br />\n<span style="font-family: arial\; font-size: 18px\; text-align: center\;">Lunch will be provided.</span><br style="font-family: arial\; font-size: 18px\; text-align: center\;" />\n<br style="font-family: arial\; font-size: 18px\; text-align: center\;" />\n<span style="font-family: arial\; font-size: 18px\; text-align: center\;">The Women&#39\;s Networking Group is held the&nbsp\;</span><br style="font-family: arial\; font-size: 18px\; text-align: center\;" />\n<span style="font-family: arial\; font-size: 18px\; text-align: center\;">2nd Thursday of the month\, 11:30 AM - 1:00 PM</span></p>\n
LOCATION:Concord Plaza Hotel 45 John Glenn Dr. Concord\, Ca 94520
UID:e.821.13887
SEQUENCE:3
DTSTAMP:20260421T083436Z
URL:https://www.concordchamber.com/events/details/women-s-networking-group-05-08-2025-13887
END:VEVENT

END:VCALENDAR
