BEGIN:VCALENDAR
VERSION:2.0
PRODID:-//ChamberMaster//Event Calendar 2.0//EN
METHOD:PUBLISH
X-PUBLISHED-TTL:P3D
REFRESH-INTERVAL:P3D
CALSCALE:GREGORIAN
BEGIN:VEVENT
DTSTART:20250426T000000Z
DTEND:20250426T030000Z
X-MICROSOFT-CDO-ALLDAYEVENT:FALSE
SUMMARY:The Sky is the limit Hosted by Phillip Delianides at CrossCountry Mortgage Walnut Creek
DESCRIPTION:We're inviting our clients and partners over for a beautiful\n\nevening on the rooftop of our homebase. Take\n\nadvantage of this unique opportunity to expand your\n\nprofessional network\, forge valuable connections\, and\n\nexchange industry insights.\n\nIf you enjoy captivating conversations that lead to new\n\nopportunities   and craft beer by Side Gate Brewery and\n\nDokkaebier   this event is for you.
X-ALT-DESC;FMTTYPE=text/html:We&rsquo\;re inviting our clients and partners over for a beautiful<br />\nevening on the rooftop of our homebase. Take<br />\nadvantage of this unique opportunity to expand your<br />\nprofessional network\, forge valuable connections\, and<br />\nexchange industry insights.<br />\nIf you enjoy captivating conversations that lead to new<br />\nopportunities &ndash\; and craft beer by Side Gate Brewery and<br />\nDokkaebier &ndash\; this event is for you.
LOCATION:
UID:e.821.14422
SEQUENCE:3
DTSTAMP:20260420T222025Z
URL:https://www.concordchamber.com/events/details/the-sky-is-the-limit-hosted-by-phillip-delianides-at-crosscountry-mortgage-walnut-creek-14422
END:VEVENT

END:VCALENDAR
