BEGIN:VCALENDAR
VERSION:2.0
PRODID:-//ChamberMaster//Event Calendar 2.0//EN
METHOD:PUBLISH
X-PUBLISHED-TTL:P3D
REFRESH-INTERVAL:P3D
CALSCALE:GREGORIAN
BEGIN:VEVENT
DTSTART:20190606T230000Z
DTEND:20190607T030000Z
X-MICROSOFT-CDO-ALLDAYEVENT:FALSE
SUMMARY:Summer Bike Challenge
DESCRIPTION:Free stuff & prizes for people on bikes
X-ALT-DESC;FMTTYPE=text/html:Free stuff &amp\; prizes for people on bikes
LOCATION:Farmers Market
UID:e.821.8613
SEQUENCE:3
DTSTAMP:20260425T193741Z
URL:https://www.concordchamber.com/events/details/summer-bike-challenge-06-06-2019-8613
END:VEVENT

END:VCALENDAR
