BEGIN:VCALENDAR
VERSION:2.0
PRODID:-//ChamberMaster//Event Calendar 2.0//EN
METHOD:PUBLISH
X-PUBLISHED-TTL:P3D
REFRESH-INTERVAL:P3D
CALSCALE:GREGORIAN
BEGIN:VEVENT
DTSTART:20260223T190000Z
DTEND:20260223T200000Z
X-MICROSOFT-CDO-ALLDAYEVENT:FALSE
SUMMARY:Nonprofit Networking Meeting
DESCRIPTION:Special Meeting Date in February:\n\nMonday\, February 23\, 2026 - 11:00 AM to Noon.\n\n\n\nJoin fellow nonprofit leaders for our upcoming nonprofit networking meeting\, featuring Colleen Awad\, Community Relations Manager\, from the City of Concord as our guest speaker. This session will provide an opportunity to connect with peers\, share ideas\, and learn more about how the City of Concord engages with and supports the nonprofit community.\n\n\n\nColleen will share insights into the city's community relations efforts\, discuss opportunities for collaboration between the city and local nonprofits\, and answer questions from attendees. Whether you're looking to strengthen partnerships\, better understand city priorities\, or expand your network\, this meeting offers valuable conversation and connection.\n\n\n\nThe meeting will include dedicated time for networking\, followed by Colleen's presentation and an interactive Q&A.
X-ALT-DESC;FMTTYPE=text/html:<div style="text-align: center\;"><span style="text-align: center\; font-size: 20px\;"><span style="box-sizing: border-box\; font-weight: bolder\; outline: 0px\; font-family: arial\;">Special Meeting Date in February:<br />\nMonday\, February 23\, 2026</span></span><span style="text-align: center\; font-family: arial\; font-size: 16px\; font-weight: 700\;"><span style="font-size: 20px\;">&nbsp\;- 11:00 AM to Noon.</span></span><br />\n<br />\n<span style="font-size:20px\;"><span style="font-family:arial\;">Join fellow nonprofit leaders for our upcoming nonprofit networking meeting\, featuring <strong>Colleen Awad\, Community Relations Manager\, from the City of Concord</strong> as our guest speaker.&nbsp\;This session will provide an opportunity to connect with peers\, share ideas\, and learn more about how the City of Concord engages with and supports the nonprofit community.<br />\n<br />\nColleen will share insights into the city&rsquo\;s community relations efforts\, discuss opportunities for collaboration between the city and local nonprofits\, and answer questions from attendees. Whether you&rsquo\;re looking to strengthen partnerships\, better understand city priorities\, or expand your network\, this meeting offers valuable conversation and connection.<br />\n<br />\nThe meeting will include dedicated time for networking\, followed by Colleen&rsquo\;s presentation and an interactive Q&amp\;A.</span></span><br />\n&nbsp\;</div>\n
LOCATION:Concord Chamber Office 2280 Diamond Blvd. Suite 200 Concord\, CA 94520 Hybrid Option Available Zoom link will be sent with registration confirmation
UID:e.821.14752
SEQUENCE:3
DTSTAMP:20260424T073511Z
URL:https://www.concordchamber.com/events/details/nonprofit-networking-meeting-14752
END:VEVENT

END:VCALENDAR
