BEGIN:VCALENDAR
VERSION:2.0
PRODID:-//ChamberMaster//Event Calendar 2.0//EN
METHOD:PUBLISH
X-PUBLISHED-TTL:P3D
REFRESH-INTERVAL:P3D
CALSCALE:GREGORIAN
BEGIN:VEVENT
DTSTART:20251215T183000Z
DTEND:20251215T200000Z
X-MICROSOFT-CDO-ALLDAYEVENT:FALSE
SUMMARY:Nonprofit Networking Meeting
DESCRIPTION:Join us for our final meeting of the year. This meeting will be an in-person celebration\,  designed to close out 2025 on a high note and spark inspiration for the year ahead!\n\n\n\nThis lively gathering will bring our community together for a morning of connection\, fun\, and festive cheer. We'll be playing interactive games\, giving away exciting prizes\, and creating plenty of opportunities to meet new people and strengthen relationships. Chamber Board members will also be in attendance\, making this an excellent opportunity to connect directly with leadership.\n\n \n\nAs a special bonus\, one fortunate nonprofit in attendance will be randomly selected for an exclusive marketing feature in 2026. The selected organization will receive a spotlight interview\, dedicated messaging in our newsletter\, and three unique social media posts to help amplify their mission and impact.\n\n \n\nYou won't want to miss this unforgettable year-end celebration come enjoy the fun and kick off the new year feeling inspired and empowered!\n\n\n\n\n\nThe Nonprofit Network Meeting is held the\n\n3rd Monday of the month\, 10:30 AM - 12:00 PM\n\n\n\nThe Nonprofit Network meeting is a monthly gathering where nonprofit professionals come together to share their experiences\, discuss common challenges\, and collaborate on achieving shared goals.\n\nThis forum is the perfect opportunity to connect with like-minded individuals dedicated to making a positive impact.
X-ALT-DESC;FMTTYPE=text/html:<div style="text-align: center\;"><br />\n<span style="font-family:arial\;"><span style="font-size:18px\;">Join us for our final meeting of the year. This meeting will be an in-person celebration\, &nbsp\;designed to close out 2025 on a high note and spark inspiration for the year ahead!<br />\n<br />\nThis lively gathering will bring our community together for a morning&nbsp\;of connection\, fun\, and festive cheer. We&rsquo\;ll be playing interactive games\, giving away exciting prizes\, and creating plenty of opportunities to meet new people and strengthen relationships. Chamber Board members will also be in attendance\, making this an excellent opportunity to connect directly with leadership.<br />\n&nbsp\;<br />\nAs a special bonus\, one fortunate nonprofit in attendance will be randomly selected for an exclusive marketing feature in 2026. The selected organization will receive a spotlight interview\, dedicated messaging in our newsletter\, and three unique social media posts to help amplify their mission and impact.<br />\n&nbsp\;<br />\nYou won&rsquo\;t want to miss this unforgettable year-end celebration&mdash\;come enjoy the fun and kick off the new year feeling inspired and empowered!</span></span><br />\n<br />\n<br />\n<span style="font-size:18px\;"><span style="font-family:arial\;"><span style="font-size:16px\;">The Nonprofit Network Meeting is held the<br />\n3rd Monday of the month\, 10:30 AM - 12:00 PM<br />\n<br />\nThe Nonprofit Network meeting is a monthly gathering where nonprofit professionals come together to share their experiences\, discuss common challenges\, and collaborate on achieving shared goals.<br />\nThis forum is the perfect opportunity to connect with like-minded individuals dedicated to making a positive impact.</span></span></span></div>\n
LOCATION:Concord Chamber Office 2280 Diamond Blvd. Suite 200 Concord\, CA 94520 In-Person Parking: Please park in Visitor or Parking Spaces Numbered 200
UID:e.821.13837
SEQUENCE:3
DTSTAMP:20260424T074800Z
URL:https://www.concordchamber.com/events/details/nonprofit-networking-meeting-12-15-2025-13837
END:VEVENT

END:VCALENDAR
