BEGIN:VCALENDAR
VERSION:2.0
PRODID:-//ChamberMaster//Event Calendar 2.0//EN
METHOD:PUBLISH
X-PUBLISHED-TTL:P3D
REFRESH-INTERVAL:P3D
CALSCALE:GREGORIAN
BEGIN:VEVENT
DTSTART:20251117T183000Z
DTEND:20251117T200000Z
X-MICROSOFT-CDO-ALLDAYEVENT:FALSE
SUMMARY:Nonprofit Networking Meeting
DESCRIPTION:Special Meeting Location in November\n\nMonday\, November 17\, 2025\n\n10:30 AM - 12:00 PM\n\nat\n\nPacific Service Credit Union\n\n\n\nSpecial Off-Site Meeting\n\nWe're pleased to announce that Kristin Peterson\, Assistant Vice President of Business and Community Development at Pacific Service Credit Union\, will host this special off-site meeting and serve as our featured speaker.\n\n \n\nKristin brings a wealth of experience as a Chamber Board Member and as a professional whose work focuses on building strong community partnerships with local nonprofits. Attendees will gain valuable insights from her unique perspective at the intersection of business\, community development\, and nonprofit collaboration.\n\n\n\nPlease note that this will be an in-person event only.
X-ALT-DESC;FMTTYPE=text/html:<div style="text-align: center\;"><span style="font-size:18px\;"><span style="font-family:arial\;"><strong>Special Meeting Location in November<br />\nMonday\, November 17\, 2025<br />\n10:30 AM - 12:00 PM<br />\nat<br />\nPacific Service Credit Union<br />\n<br />\nSpecial Off-Site Meeting</strong><br />\nWe&rsquo\;re pleased to announce that Kristin Peterson\, Assistant Vice President of Business and Community Development at Pacific Service Credit Union\, will host this special off-site meeting and serve as our featured speaker.<br />\n&nbsp\;<br />\nKristin brings a wealth of experience as a Chamber Board Member and as a professional whose work focuses on building strong community partnerships with local nonprofits. Attendees will gain valuable insights from her unique perspective at the intersection of business\, community development\, and nonprofit collaboration.</span></span><br />\n<br />\n<span style="font-size:18px\;"><span style="font-family:arial\;"><strong>Please note that this will be an in-person event only.</strong></span></span><br />\n<br />\n&nbsp\;</div>\n
LOCATION:Pacific Service Credit Union 1355 Willow Way Concord\, CA 94520
UID:e.821.13836
SEQUENCE:3
DTSTAMP:20260424T073658Z
URL:https://www.concordchamber.com/events/details/nonprofit-networking-meeting-11-17-2025-13836
END:VEVENT

END:VCALENDAR
