BEGIN:VCALENDAR
VERSION:2.0
PRODID:-//ChamberMaster//Event Calendar 2.0//EN
METHOD:PUBLISH
X-PUBLISHED-TTL:P3D
REFRESH-INTERVAL:P3D
CALSCALE:GREGORIAN
BEGIN:VEVENT
DTSTART:20250915T173000Z
DTEND:20250915T190000Z
X-MICROSOFT-CDO-ALLDAYEVENT:FALSE
SUMMARY:Nonprofit Networking Meeting
DESCRIPTION:Special Meeting Location in September\n\nMonday\, September 15\, 2025\n\n10:30 AM - 12:00 PM\n\nat\n\nHospice East Bay\n\n\n\nPlease note that this will be an in-person event only.\n\n\n\nThis month's topic:\n\n"Building Confidence in Public Speaking & Finding Opportunities to Speak"\n\nWhether you love the spotlight or are still warming up to the mic\, this conversation will offer practical tips\, personal stories\, and new ideas to help you grow your presence and find more speaking opportunities   both inside and outside your organization.\n\n \n\nGet ready for an engaging\, encouraging\, and energizing session.\n\nWe look forward to seeing you there!\n\n\n\nThe Nonprofit Network meeting is a monthly gathering where nonprofit professionals come together to share their experiences\, discuss common challenges\, and collaborate on achieving shared goals.\n\nThis forum is the perfect opportunity to connect with like-minded individuals dedicated to making a positive impact.
X-ALT-DESC;FMTTYPE=text/html:<div style="text-align: center\;"><span style="font-family: arial\; font-size: 20px\; font-weight: 700\; text-align: center\;">Special Meeting Location in September<br />\nMonday\, September 15\, 2025<br />\n10:30&nbsp\;AM - 12:00 PM<br />\nat<br />\nHospice East Bay</span><br />\n<br />\n<strong><span style="font-family: arial\; font-size: 18px\; text-align: center\;">Please note that this will be an in-person event only.</span></strong><br style="font-family: arial\; font-size: 18px\; text-align: center\;" />\n<br />\n<span style="font-size:18px\;"><span style="font-family:arial\;"><strong>This month&rsquo\;s topic:</strong><br />\n<strong>&ldquo\;Building Confidence in Public Speaking &amp\; Finding Opportunities to Speak&rdquo\;</strong><br />\nWhether you love the spotlight or are still warming up to the mic\, this conversation will offer practical tips\, personal stories\, and new ideas to help you grow your presence and find more speaking opportunities &mdash\; both inside and outside your organization.<br />\n&nbsp\;<br />\nGet ready for an engaging\, encouraging\, and energizing session.<br />\nWe look forward to seeing you there!</span></span><br />\n<br />\n<span style="font-size:18px\;"><span style="font-family:arial\;">The Nonprofit Network meeting is a monthly gathering where nonprofit professionals come together to share their experiences\, discuss common challenges\, and collaborate on achieving shared goals.<br />\nThis forum is the perfect opportunity to connect with like-minded individuals dedicated to making a positive impact.</span></span></div>\n
LOCATION:In Person at Hospice East Bay 3470 Buskirk Avenue Pleasant Hill\, CA 94523
UID:e.821.13834
SEQUENCE:3
DTSTAMP:20260424T073810Z
URL:https://www.concordchamber.com/events/details/nonprofit-networking-meeting-09-15-2025-13834
END:VEVENT

END:VCALENDAR
