BEGIN:VCALENDAR
VERSION:2.0
PRODID:-//ChamberMaster//Event Calendar 2.0//EN
METHOD:PUBLISH
X-PUBLISHED-TTL:P3D
REFRESH-INTERVAL:P3D
CALSCALE:GREGORIAN
BEGIN:VEVENT
DTSTART:20260425T154500Z
DTEND:20260425T223000Z
X-MICROSOFT-CDO-ALLDAYEVENT:FALSE
SUMMARY:Living Better After 50
DESCRIPTION:We invite senior east county residents to participate in this fun and engaging event. It features a several workshops and activities providing knowledge while having a good time. Breakfast\, lunch\, and a raffle are all included in the $5 admission. Living Better After 50 event! Saturday April 20th 8:45-4:00pm at Black Diamond High School - 1131 Stoneman Ave\, Pittsburg To Register You Can Call 925-473-2400 Workshop topics include: Reducing Clutter How to take Photo's with your IPhone Senior Planet: Tech help Tai Chi Legal - Affairs in Order Dancing Home Care & Living Transitions Laughter Yoga Fitness & Nutrition and much more! Registration is just $5.00 per person To Register You Can Call 925-473-2400 or go to this link: https://pittsburgadult.asapconnected.com/#EventID=2978872
X-ALT-DESC;FMTTYPE=text/html:We invite senior east county residents to participate in this fun and engaging event. It features a several workshops and activities providing knowledge while having a good time. Breakfast\, lunch\, and a raffle are all included in the $5 admission. Living Better After 50 event! Saturday April 20th 8:45-4:00pm at Black Diamond High School - 1131 Stoneman Ave\, Pittsburg To Register You Can Call 925-473-2400 Workshop topics include: Reducing Clutter How to take Photo&#39\;s with your IPhone Senior Planet: Tech help Tai Chi Legal - Affairs in Order Dancing Home Care &amp\; Living Transitions Laughter Yoga Fitness &amp\; Nutrition and much more! Registration is just $5.00 per person To Register You Can Call 925-473-2400 or go to this link: https://pittsburgadult.asapconnected.com/#EventID=2978872
LOCATION:Black Diamond High School - 1131 Stoneman Ave\, Pittsburg\, CA
UID:e.821.14800
SEQUENCE:3
DTSTAMP:20260424T004508Z
URL:https://www.concordchamber.com/events/details/living-better-after-50-14800
END:VEVENT

END:VCALENDAR
