BEGIN:VCALENDAR
VERSION:2.0
PRODID:-//ChamberMaster//Event Calendar 2.0//EN
METHOD:PUBLISH
X-PUBLISHED-TTL:P3D
REFRESH-INTERVAL:P3D
CALSCALE:GREGORIAN
BEGIN:VEVENT
DTSTART:20251211T013000Z
DTEND:20251211T033000Z
X-MICROSOFT-CDO-ALLDAYEVENT:FALSE
SUMMARY:Holiday Mixer at Mechanics Bank
DESCRIPTION:Holiday Mixer Time\n\nJoin us for a festive evening hosted by Mechanics Bank\, where community\, connection\, and celebration come together. Enjoy light refreshments as you mingle with fellow members\, build new relationships\, and reconnect with familiar faces. It's the perfect way to toast to the holiday season and wrap up the year with your Concord Chamber community.\n\n We can't wait to celebrate with you!
X-ALT-DESC;FMTTYPE=text/html:<div style="text-align: center\;">\n<p align="center" style="text-align:center"><span style="font-size:18px\;"><span style="font-family:arial\;"><span style="color: rgb(49\, 44\, 40)\;">Holiday Mixer Time</span></span></span></p>\n\n<p align="center" style="text-align:center"><span style="font-size:18px\;"><span style="font-family:arial\;"><span style="color: rgb(49\, 44\, 40)\;">Join us for a festive evening hosted by Mechanics Bank\, where community\, connection\, and celebration come together. Enjoy light refreshments as you mingle with fellow members\, build new relationships\, and reconnect with familiar faces. It&rsquo\;s the perfect way to toast to the holiday season and wrap up the year with your Concord Chamber community.</span></span></span><span style="font-family:&quot\;Arial&quot\;\,sans-serif\;\ncolor:#312C28"><o:p></o:p></span></p>\n\n<p align="center" style="text-align:center"><span style="font-family:arial\;"><span style="font-size:18px\;"><span style="color: rgb(49\, 44\, 40)\;"><o:p>&nbsp\;</o:p></span><span style="color: rgb(49\, 44\, 40)\;">We can&rsquo\;t wait to celebrate with you!</span><span style="color: rgb(49\, 44\, 40)\;"><o:p></o:p></span></span></span></p>\n\n<p align="center" style="text-align:center">&nbsp\;</p>\n\n<p align="center" style="text-align:center">&nbsp\;</p>\n</div>\n
LOCATION:Mechanics Bank 1170 Concord Avenue\, Suite 160 Concord\, CA 94520
UID:e.821.14671
SEQUENCE:3
DTSTAMP:20260424T090202Z
URL:https://www.concordchamber.com/events/details/holiday-mixer-at-mechanics-bank-14671
END:VEVENT

END:VCALENDAR
