BEGIN:VCALENDAR
VERSION:2.0
PRODID:-//ChamberMaster//Event Calendar 2.0//EN
METHOD:PUBLISH
X-PUBLISHED-TTL:P3D
REFRESH-INTERVAL:P3D
CALSCALE:GREGORIAN
BEGIN:VEVENT
DTSTART:20251205T163000Z
DTEND:20251205T183000Z
X-MICROSOFT-CDO-ALLDAYEVENT:FALSE
SUMMARY:Holiday First Friday Coffee at Gratitude Coffee
DESCRIPTION:Kick off the holidays with the Concord Chamber!\n\nJoin us for a festive Holiday First Friday Coffee\, your chance to mix\, mingle\, and enjoy some seasonal cheer.\nEnjoy a delicious continental breakfast prepared by Chef Dave of All Occasions Catering while listening to festive tunes performed by Dave Schroeder. Photographer AJ from OhReilly Productions will also be there to capture the holiday cheer.\n\n\n\nStop by anytime between 8:30 AM and 10:30 AM for a great morning of networking and holiday cheer.
X-ALT-DESC;FMTTYPE=text/html:<div style="text-align: center\;">\n<p align="center" style="text-align:center"><span style="font-size:18px\;"><span style="font-family:arial\;"><span style="color: rgb(49\, 44\, 40)\;">Kick off the holidays with the Concord Chamber!</span></span></span><span style="font-family:&quot\;Arial&quot\;\,sans-serif\;\ncolor:#312C28"><o:p></o:p></span></p>\n\n<p align="center" style="text-align:center"><span style="font-size:18px\;"><span style="font-family:arial\;"><span style="color: rgb(49\, 44\, 40)\;">Join us for a festive Holiday First Friday Coffee\, your chance to mix\, mingle\, and enjoy some seasonal cheer.</span></span></span><span style="font-family:&quot\;Arial&quot\;\,sans-serif\;\ncolor:#312C28"><o:p></o:p></span></p>\n<span style="font-size:18px\;"><span style="font-family:arial\;">Enjoy a delicious continental breakfast prepared by Chef Dave of All Occasions Catering while listening to festive tunes performed by Dave Schroeder. Photographer AJ from OhReilly Productions will also be there to capture the holiday cheer.</span></span><br />\n<br />\n<span style="font-size:18px\;"><span style="font-family:arial\;">Stop by anytime between 8:30 AM and 10:30 AM for a great morning of networking and holiday cheer.</span></span></div>\n\n<div style="text-align: center\;">\n<p>&nbsp\;</p>\n</div>\n
LOCATION:Gratitude Coffee Bar 1655 Willow Pass Rd.\, Suite B Concord
UID:e.821.13972
SEQUENCE:3
DTSTAMP:20260424T073627Z
URL:https://www.concordchamber.com/events/details/holiday-first-friday-coffee-at-gratitude-coffee-13972
END:VEVENT

END:VCALENDAR
