BEGIN:VCALENDAR
VERSION:2.0
PRODID:-//ChamberMaster//Event Calendar 2.0//EN
METHOD:PUBLISH
X-PUBLISHED-TTL:P3D
REFRESH-INTERVAL:P3D
CALSCALE:GREGORIAN
BEGIN:VEVENT
DTSTART:20231013T223000Z
DTEND:20231014T010000Z
X-MICROSOFT-CDO-ALLDAYEVENT:FALSE
SUMMARY:Hidden Lakes Park (Fishing Pond) Fall Family Mini Session
DESCRIPTION:Hidden Lakes offers that classic golden fall look with a beautiful pond\, and tall grass. Perfect for those who want a natural outdoor session. \nWho is this perfect for?\n\n\n	Families\, couples or individuals who want a luxury experience\, but don't have a large budget. \n	Treasure their time\, precious moments and love to have fun. \n	Capturing family legacy. \n	Desire archival heirloom prints\, but are fine with framing themselves\n	Are tired of paying for family sessions that collect digital moth balls on their computer and NEVER end up on their walls to ACTUALLY enjoy. \n	Includes a 20 - 30 minute session\, (6) - 5x7 touched up archival prints or upgrade and receive (10) touched up archival prints (both options include complimentary web-sharable digitals)\n	Bonus! 10% of profits will go to Early Alert Canines (non-profit)
X-ALT-DESC;FMTTYPE=text/html:Hidden Lakes offers that classic golden fall look with a beautiful pond\, and tall grass. Perfect for those who want a natural outdoor session.&nbsp\;\n<div style="text-align:center"><strong>Who is this perfect for?</strong></div>\n\n<ul>\n	<li>Families\, couples or individuals who want a luxury experience\, but don&#39\;t have a large budget.&nbsp\;</li>\n	<li>Treasure their time\, precious moments and love to have fun.&nbsp\;</li>\n	<li>Capturing family legacy.&nbsp\;</li>\n	<li>Desire archival heirloom prints\, but are fine with framing themselves</li>\n	<li>Are tired of paying for family sessions that collect digital moth balls on their computer and NEVER end up on their walls to ACTUALLY enjoy.&nbsp\;</li>\n	<li>Includes a 20 - 30 minute session\, (6) - 5x7 touched up archival prints or upgrade and receive (10) touched up archival prints (both options include complimentary web-sharable digitals)</li>\n	<li><strong>Bonus!&nbsp\;</strong>10% of profits will go to Early Alert Canines (non-profit)</li>\n</ul>\n
LOCATION:Hidden Lakes Park\, Martinez (entrance Hidden Valley School)
UID:e.821.12111
SEQUENCE:3
DTSTAMP:20260419T150604Z
URL:https://www.concordchamber.com/events/details/hidden-lakes-park-fishing-pond-fall-family-mini-session-12111
END:VEVENT

END:VCALENDAR
