BEGIN:VCALENDAR
VERSION:2.0
PRODID:-//ChamberMaster//Event Calendar 2.0//EN
METHOD:PUBLISH
X-PUBLISHED-TTL:P3D
REFRESH-INTERVAL:P3D
CALSCALE:GREGORIAN
BEGIN:VEVENT
DTSTART:20251107T163000Z
DTEND:20251107T173000Z
X-MICROSOFT-CDO-ALLDAYEVENT:FALSE
SUMMARY:First Friday Coffee at Gratitude 2025
DESCRIPTION:First Friday Coffee is held the\n\n1st Friday of the month\, 8:30 AM - 9:30 AM\n\nat Gratitude Coffee\n\n\n\nJoin us for our most popular event\, where business leaders and community members come together to network\, share updates\, and hear the latest from the Chamber and the community.
X-ALT-DESC;FMTTYPE=text/html:<div style="text-align: center\;"><span style="font-size:18px\;"><span fira="" font-size:="" style="box-sizing: border-box\; font-family: " text-align:=""><span style="box-sizing: border-box\; font-family: arial\;">First Friday Coffee is held the<br />\n1st Friday of the month\, 8:30 AM - 9:30&nbsp\;AM<br />\nat Gratitude Coffee</span></span><br />\n<br />\n<span style="font-family:arial\;">Join us for our most popular event\, where business leaders&nbsp\;and community members come together to network\, share updates\, and hear the latest from the Chamber and the community.</span></span></div>\n\n<div style="text-align: center\;">\n<p>&nbsp\;</p>\n</div>\n
LOCATION:Gratitude Coffee Bar 1655 Willow Pass Rd.\, Suite B Concord
UID:e.821.13971
SEQUENCE:3
DTSTAMP:20260424T073739Z
URL:https://www.concordchamber.com/events/details/first-friday-coffee-at-gratitude-2025-11-07-2025-13971
END:VEVENT

END:VCALENDAR
