BEGIN:VCALENDAR
VERSION:2.0
PRODID:-//ChamberMaster//Event Calendar 2.0//EN
METHOD:PUBLISH
X-PUBLISHED-TTL:P3D
REFRESH-INTERVAL:P3D
CALSCALE:GREGORIAN
BEGIN:VEVENT
DTSTART:20190125T030000Z
DTEND:20190125T050000Z
X-MICROSOFT-CDO-ALLDAYEVENT:FALSE
SUMMARY:Diablo Toastmasters Weekly Meeting
DESCRIPTION:Join us!  Diablo 598Toastmasters can help you learn to Speak and Lead with confidence\, Jump your career to a new level\, make New friends   and have Fun doing it!! Denny's 1313 Willow Pass Road\, Concord\, CA
X-ALT-DESC;FMTTYPE=text/html:Join us!&nbsp\; Diablo 598Toastmasters can help you learn to Speak and Lead with confidence\, Jump your career to a new level\, make New friends &mdash\; and have Fun doing it!!&nbsp\;Denny&#39\;s 1313 Willow Pass Road\, Concord\, CA
LOCATION:Denny's Restaurant 1313 Willow Pass Road\, Concord\, CA 94520
UID:e.821.8481
SEQUENCE:3
DTSTAMP:20260421T001033Z
URL:https://www.concordchamber.com/events/details/diablo-toastmasters-weekly-meeting-01-24-2019-8481
END:VEVENT

END:VCALENDAR
