BEGIN:VCALENDAR
VERSION:2.0
PRODID:-//ChamberMaster//Event Calendar 2.0//EN
METHOD:PUBLISH
X-PUBLISHED-TTL:P3D
REFRESH-INTERVAL:P3D
CALSCALE:GREGORIAN
BEGIN:VEVENT
DTSTART:20260503T000000Z
DTEND:20260503T050000Z
X-MICROSOFT-CDO-ALLDAYEVENT:FALSE
SUMMARY:CocoKids Together for Children 50th Anniversary Gala
DESCRIPTION:CocoKids is celebrating 50 years of serving the Contra Costa County as a nonprofit!
X-ALT-DESC;FMTTYPE=text/html:CocoKids is celebrating 50 years of serving the Contra Costa County as a nonprofit!
LOCATION:The Boundary Oak Golf Course 3800 Valley Vista Rd. Walnut Creek\, CA 94598
UID:e.821.14819
SEQUENCE:3
DTSTAMP:20260420T215012Z
URL:https://www.concordchamber.com/events/details/cocokids-together-for-children-50th-anniversary-gala-14819
END:VEVENT

END:VCALENDAR
