BEGIN:VCALENDAR
VERSION:2.0
PRODID:-//ChamberMaster//Event Calendar 2.0//EN
METHOD:PUBLISH
X-PUBLISHED-TTL:P3D
REFRESH-INTERVAL:P3D
CALSCALE:GREGORIAN
BEGIN:VEVENT
DTSTART;VALUE=DATE:20251108
DTEND;VALUE=DATE:20251110
TRANSP:TRANSPARENT
X-MICROSOFT-CDO-ALLDAYEVENT:TRUE
SUMMARY:CCMGS 75th Anniversary Mineral & Gem Show
DESCRIPTION:JOIN US for the Contra Costa Mineral & Gem Society's 75th ANNIVERSARY MINERAL & GEM SHOW November 8-9\, 2025! Come enjoy a rockin' weekend full of affordable family FUN\, holiday shopping\, and educational experiences for ALL AGES! Come celebrate 75 years with us\, and see what is NEW this year! Vendors\, Minerals\, Gems\, Fossils\, Meteorites\, Jewelry\, Beads\, Slabs\, Displays\, Fluorescent Tent\, Demonstrations\, Family Activities\, Games\, Rock Painting\, Door Prizes\, Silent Auctions\, Raffles\, plus SO much more... Enjoy FREE PARKING and FREE Sunday admission WITH PAID Saturday! Admission: 13 & Over $10. 12 & Under FREE. First Responders/Scouts/Youth Org. Members in Uniform FREE. Dates/Times: Sat. Nov. 8\, 10AM-5PM. Sun. Nov. 9\, 10AM-4PM. Location: Centre Concord\, 5298 Clayton Rd.\, Concord\, CA 94521. Learn more and get tickets at www.ccmgsclub.com/show.
X-ALT-DESC;FMTTYPE=text/html:JOIN US for the Contra Costa Mineral &amp\; Gem Society&rsquo\;s 75th ANNIVERSARY MINERAL &amp\; GEM SHOW November 8-9\, 2025! Come enjoy a rockin&rsquo\; weekend full of affordable family FUN\, holiday shopping\, and educational experiences for ALL AGES! Come celebrate 75 years with us\, and see what is NEW this year! Vendors\, Minerals\, Gems\, Fossils\, Meteorites\, Jewelry\, Beads\, Slabs\, Displays\, Fluorescent Tent\, Demonstrations\, Family Activities\, Games\, Rock Painting\, Door Prizes\, Silent Auctions\, Raffles\, plus SO much more... Enjoy FREE PARKING and FREE Sunday admission WITH PAID Saturday! Admission: 13 &amp\; Over $10. 12 &amp\; Under FREE. First Responders/Scouts/Youth Org. Members in Uniform FREE. Dates/Times: Sat. Nov. 8\, 10AM-5PM. Sun. Nov. 9\, 10AM-4PM. Location: Centre Concord\, 5298 Clayton Rd.\, Concord\, CA 94521. Learn more and get tickets at www.ccmgsclub.com/show.
LOCATION:Centre Concord\, 5298 Clayton Rd.\, Concord\, CA 94521.
UID:e.821.14657
SEQUENCE:3
DTSTAMP:20260422T094502Z
URL:https://www.concordchamber.com/events/details/ccmgs-75th-anniversary-mineral-gem-show-14657
END:VEVENT

END:VCALENDAR
