BEGIN:VCALENDAR
VERSION:2.0
PRODID:-//ChamberMaster//Event Calendar 2.0//EN
METHOD:PUBLISH
X-PUBLISHED-TTL:P3D
REFRESH-INTERVAL:P3D
CALSCALE:GREGORIAN
BEGIN:VEVENT
DTSTART:20250918T230000Z
DTEND:20250919T010000Z
X-MICROSOFT-CDO-ALLDAYEVENT:FALSE
SUMMARY:Business After Hours Mixer - hosted by Skylinks at Buchanan Fields
DESCRIPTION:Skylinks at Buchanan Fields will host the September Mixer.\n\nJoin us for an evening of connection and community. Enjoy hitting balls at the driving range and Hors d'oeuvres. \n\n \nBring the entire family there will be fun things for the kids!\n\nIncluding: bounce houses\, a small mini putt\, volleyball\, soccer\, football\, cornhole\, and Jenga blocks.\n\n\nWe look forward to seeing you there!\n\n\n\nOverflow parking will be available at the Concord Plaza.\n\n\n\nConnect with fellow Chamber staff\, Ambassadors\, Board members\, and other members of the Concord Chamber of Commerce at our Business After Hours Mixer.\n\nThis is a great opportunity to network\, catch up with friends\, and establish new connections.
X-ALT-DESC;FMTTYPE=text/html:<div style="text-align: center\;"><br />\n<span style="font-size:18px\;"><strong><span style="font-size:20px\;">Skylinks at Buchanan Fields will host the September Mixer.</span></strong><br />\nJoin us for an evening of connection and community. Enjoy hitting balls at the driving range and Hors d&#39\;oeuvres.&nbsp\;</span><br />\n&nbsp\;\n<div style="text-align: center\;"><span style="font-size: 18px\;"><strong>Bring the entire family there will be fun things for the kids!</strong><br />\nIncluding:&nbsp\;<span style="font-family: arial\;">bounce houses\,&nbsp\;a small mini putt\, volleyball\,&nbsp\;soccer\,&nbsp\;football\, cornhole\, and Jenga blocks.</span></span></div>\n\n<div style="text-align: center\;">\n<p><span style="font-size: 18px\;">We look forward to seeing you there!<br />\n<br />\nOverflow parking will be available at the Concord Plaza.</span></p>\n</div>\n<br />\n<span style="font-size:18px\;">Connect with fellow Chamber staff\, Ambassadors\, Board members\, and other members of the Concord Chamber of Commerce at our Business After Hours Mixer.<br />\nThis is a great opportunity to network\, catch up with friends\, and establish new connections.</span><br />\n&nbsp\;</div>\n
LOCATION:1091 Concord Ave. Concord\, CA 94520
UID:e.821.13813
SEQUENCE:3
DTSTAMP:20260424T090159Z
URL:https://www.concordchamber.com/events/details/business-after-hours-mixer-hosted-by-skylinks-at-buchanan-fields-13813
END:VEVENT

END:VCALENDAR
