BEGIN:VCALENDAR
VERSION:2.0
PRODID:-//ChamberMaster//Event Calendar 2.0//EN
METHOD:PUBLISH
X-PUBLISHED-TTL:P3D
REFRESH-INTERVAL:P3D
CALSCALE:GREGORIAN
BEGIN:VEVENT
DTSTART:20251121T000000Z
DTEND:20251121T020000Z
X-MICROSOFT-CDO-ALLDAYEVENT:FALSE
SUMMARY:Business After Hours Mixer - hosted by Diablo Valley Federal Credit Union
DESCRIPTION:Business After Hours Mixer is held the\n\n3rd Thursday of the month\, 4:00 PM - 6:00 PM\n\n\n\nDiablo Valley Federal Credit Union\n\nwill be hosting the November Mixer.\n\n\n\nJoin us at the Concord Historical Society for this mixer which will feature Diablo Valley Federal Credit Union's commitment to the community and their affinity with Loaves and Fishes of Contra Costa. \n\n\n\nConnect with fellow Chamber staff\, Ambassadors\, Board members\, and other members of the Concord Chamber of Commerce at our Business After Hours Mixer.\n\nThis is a great opportunity to network\, catch up with friends\, and establish new connections.\n\n \n\n\nWe look forward to seeing you there!
X-ALT-DESC;FMTTYPE=text/html:<div style="text-align: center\;"><span style="font-size:18px\;">Business After Hours Mixer is held the<br />\n3rd Thursday of the month\,&nbsp\;4:00 PM&nbsp\;- 6:00 PM<br />\n<br />\n<span style="font-size:20px\;"><span style="font-family:arial\;"><strong>Diablo Valley Federal Credit Union<br />\nwill be hosting the November Mixer.</strong><br />\n<br />\nJoin us at the Concord Historical Society for this mixer which will feature Diablo Valley Federal Credit Union&#39\;s commitment to the community and their affinity with Loaves and Fishes of Contra Costa.&nbsp\;</span></span><br />\n<br />\nConnect with fellow Chamber staff\, Ambassadors\, Board members\, and other members of the Concord Chamber of Commerce at our Business After Hours Mixer.<br />\nThis is a great opportunity to network\, catch up with friends\, and establish new connections.</span><br />\n&nbsp\;</div>\n\n<div style="text-align: center\;">\n<p><span style="font-size:18px\;">We look forward to seeing you there!</span></p>\n</div>\n
LOCATION:Concord Historical Society 1928 Clayton Road Concord\, CA 94519
UID:e.821.13814
SEQUENCE:3
DTSTAMP:20260424T074303Z
URL:https://www.concordchamber.com/events/details/business-after-hours-mixer-hosted-by-diablo-valley-federal-credit-union-13814
END:VEVENT

END:VCALENDAR
