BEGIN:VCALENDAR
VERSION:2.0
PRODID:-//ChamberMaster//Event Calendar 2.0//EN
METHOD:PUBLISH
X-PUBLISHED-TTL:P3D
REFRESH-INTERVAL:P3D
CALSCALE:GREGORIAN
BEGIN:VEVENT
DTSTART:20250821T230000Z
DTEND:20250822T010000Z
X-MICROSOFT-CDO-ALLDAYEVENT:FALSE
SUMMARY:Business After Hours Mixer 2025 - Hosted by City Wide Facility Solutions & White Pony Express
DESCRIPTION:Business After Hours Mixer is held the\n\n3rd Thursday of the month\, 4:00 PM - 6:00 PM\n\n\n\nCity Wide Facility Solutions and White Pony Express\n\nwill host the August Mixer \n\n\n\nConnect with fellow Chamber staff\, Ambassadors\, Board members\, and Members of the Concord Chamber of Commerce at our Business After Hours Mixer.\n\nThis is a great opportunity to network\, catch up with friends\, and establish new connections.\n\n \n\n\nWe look forward to seeing you there!
X-ALT-DESC;FMTTYPE=text/html:<div style="text-align: center\;"><span style="font-size:18px\;">Business After Hours Mixer is held the<br />\n3rd Thursday of the month\,&nbsp\;4:00 PM&nbsp\;- 6:00 PM<br />\n<br />\n<strong>City Wide Facility Solutions and&nbsp\;White Pony Express<br />\nwill host the August Mixer&nbsp\;</strong><br />\n<br />\nConnect with fellow Chamber staff\, Ambassadors\, Board members\, and Members of the Concord Chamber of Commerce at our Business After Hours Mixer.<br />\nThis is a great opportunity to network\, catch up with friends\, and establish new connections.</span><br />\n&nbsp\;</div>\n\n<div style="text-align: center\;">\n<p><span style="font-size:18px\;">We look forward to seeing you there!</span></p>\n</div>\n
LOCATION:White Pony Express 2470 Bates Ave. Concord\, CA 94520
UID:e.821.13811
SEQUENCE:3
DTSTAMP:20260424T074059Z
URL:https://www.concordchamber.com/events/details/business-after-hours-mixer-2025-hosted-by-city-wide-facility-solutions-white-pony-express-13811
END:VEVENT

END:VCALENDAR
